BEGIN:VCALENDAR
VERSION:2.0
PRODID:-//jEvents 2.0 for Joomla//EN
CALSCALE:GREGORIAN
METHOD:PUBLISH
BEGIN:VTIMEZONE
TZID:Europe/Rome
BEGIN:STANDARD
DTSTART:20120308T000100
RDATE:20120325T030000
TZOFFSETFROM:+0200
TZOFFSETTO:+0100
TZNAME:Europe/Rome CET
END:STANDARD
BEGIN:STANDARD
DTSTART:20121028T020000
RDATE:20130331T030000
TZOFFSETFROM:+0200
TZOFFSETTO:+0100
TZNAME:Europe/Rome CET
END:STANDARD
BEGIN:STANDARD
DTSTART:20131027T020000
RDATE:20140330T030000
TZOFFSETFROM:+0200
TZOFFSETTO:+0100
TZNAME:Europe/Rome CET
END:STANDARD
BEGIN:STANDARD
DTSTART:20141026T020000
RDATE:20150329T030000
TZOFFSETFROM:+0200
TZOFFSETTO:+0100
TZNAME:Europe/Rome CET
END:STANDARD
BEGIN:STANDARD
DTSTART:20151025T020000
RDATE:20160327T030000
TZOFFSETFROM:+0200
TZOFFSETTO:+0100
TZNAME:Europe/Rome CET
END:STANDARD
BEGIN:STANDARD
DTSTART:20161030T020000
RDATE:20170326T030000
TZOFFSETFROM:+0200
TZOFFSETTO:+0100
TZNAME:Europe/Rome CET
END:STANDARD
BEGIN:STANDARD
DTSTART:20171029T020000
RDATE:20180325T030000
TZOFFSETFROM:+0200
TZOFFSETTO:+0100
TZNAME:Europe/Rome CET
END:STANDARD
BEGIN:STANDARD
DTSTART:20181028T020000
RDATE:20190331T030000
TZOFFSETFROM:+0200
TZOFFSETTO:+0100
TZNAME:Europe/Rome CET
END:STANDARD
BEGIN:STANDARD
DTSTART:20191027T020000
RDATE:20200329T030000
TZOFFSETFROM:+0200
TZOFFSETTO:+0100
TZNAME:Europe/Rome CET
END:STANDARD
BEGIN:STANDARD
DTSTART:20201025T020000
RDATE:20210328T030000
TZOFFSETFROM:+0200
TZOFFSETTO:+0100
TZNAME:Europe/Rome CET
END:STANDARD
BEGIN:STANDARD
DTSTART:20211031T020000
RDATE:20220327T030000
TZOFFSETFROM:+0200
TZOFFSETTO:+0100
TZNAME:Europe/Rome CET
END:STANDARD
BEGIN:STANDARD
DTSTART:20221030T020000
RDATE:20230326T030000
TZOFFSETFROM:+0200
TZOFFSETTO:+0100
TZNAME:Europe/Rome CET
END:STANDARD
BEGIN:STANDARD
DTSTART:20231029T020000
RDATE:20240331T030000
TZOFFSETFROM:+0200
TZOFFSETTO:+0100
TZNAME:Europe/Rome CET
END:STANDARD
BEGIN:STANDARD
DTSTART:20241027T020000
RDATE:20250330T030000
TZOFFSETFROM:+0200
TZOFFSETTO:+0100
TZNAME:Europe/Rome CET
END:STANDARD
BEGIN:STANDARD
DTSTART:20251026T020000
RDATE:20260329T030000
TZOFFSETFROM:+0200
TZOFFSETTO:+0100
TZNAME:Europe/Rome CET
END:STANDARD
BEGIN:STANDARD
DTSTART:20261025T020000
RDATE:20270328T030000
TZOFFSETFROM:+0200
TZOFFSETTO:+0100
TZNAME:Europe/Rome CET
END:STANDARD
BEGIN:STANDARD
DTSTART:20271031T020000
RDATE:20280326T030000
TZOFFSETFROM:+0200
TZOFFSETTO:+0100
TZNAME:Europe/Rome CET
END:STANDARD
BEGIN:STANDARD
DTSTART:20281029T020000
RDATE:20290325T030000
TZOFFSETFROM:+0200
TZOFFSETTO:+0100
TZNAME:Europe/Rome CET
END:STANDARD
BEGIN:STANDARD
DTSTART:20291028T020000
RDATE:20300331T030000
TZOFFSETFROM:+0200
TZOFFSETTO:+0100
TZNAME:Europe/Rome CET
END:STANDARD
BEGIN:STANDARD
DTSTART:20301027T020000
RDATE:20310330T030000
TZOFFSETFROM:+0200
TZOFFSETTO:+0100
TZNAME:Europe/Rome CET
END:STANDARD
BEGIN:STANDARD
DTSTART:20311026T020000
RDATE:20320328T030000
TZOFFSETFROM:+0200
TZOFFSETTO:+0100
TZNAME:Europe/Rome CET
END:STANDARD
BEGIN:STANDARD
DTSTART:20321031T020000
RDATE:20330327T030000
TZOFFSETFROM:+0200
TZOFFSETTO:+0100
TZNAME:Europe/Rome CET
END:STANDARD
BEGIN:STANDARD
DTSTART:20331030T020000
RDATE:20340326T030000
TZOFFSETFROM:+0200
TZOFFSETTO:+0100
TZNAME:Europe/Rome CET
END:STANDARD
BEGIN:STANDARD
DTSTART:20341029T020000
RDATE:20350325T030000
TZOFFSETFROM:+0200
TZOFFSETTO:+0100
TZNAME:Europe/Rome CET
END:STANDARD
BEGIN:STANDARD
DTSTART:20351028T020000
RDATE:20360330T030000
TZOFFSETFROM:+0200
TZOFFSETTO:+0100
TZNAME:Europe/Rome CET
END:STANDARD
BEGIN:STANDARD
DTSTART:20361026T020000
RDATE:20370329T030000
TZOFFSETFROM:+0200
TZOFFSETTO:+0100
TZNAME:Europe/Rome CET
END:STANDARD
BEGIN:STANDARD
DTSTART:20371025T020000
TZOFFSETFROM:+0200
TZOFFSETTO:+0100
TZNAME:Europe/Rome CET
END:STANDARD
BEGIN:DAYLIGHT
DTSTART:20120325T030000
RDATE:20121028T020000
TZOFFSETFROM:+0100
TZOFFSETTO:+0200
TZNAME:Europe/Rome CEST
END:DAYLIGHT
BEGIN:DAYLIGHT
DTSTART:20130331T030000
RDATE:20131027T020000
TZOFFSETFROM:+0100
TZOFFSETTO:+0200
TZNAME:Europe/Rome CEST
END:DAYLIGHT
BEGIN:DAYLIGHT
DTSTART:20140330T030000
RDATE:20141026T020000
TZOFFSETFROM:+0100
TZOFFSETTO:+0200
TZNAME:Europe/Rome CEST
END:DAYLIGHT
BEGIN:DAYLIGHT
DTSTART:20150329T030000
RDATE:20151025T020000
TZOFFSETFROM:+0100
TZOFFSETTO:+0200
TZNAME:Europe/Rome CEST
END:DAYLIGHT
BEGIN:DAYLIGHT
DTSTART:20160327T030000
RDATE:20161030T020000
TZOFFSETFROM:+0100
TZOFFSETTO:+0200
TZNAME:Europe/Rome CEST
END:DAYLIGHT
BEGIN:DAYLIGHT
DTSTART:20170326T030000
RDATE:20171029T020000
TZOFFSETFROM:+0100
TZOFFSETTO:+0200
TZNAME:Europe/Rome CEST
END:DAYLIGHT
BEGIN:DAYLIGHT
DTSTART:20180325T030000
RDATE:20181028T020000
TZOFFSETFROM:+0100
TZOFFSETTO:+0200
TZNAME:Europe/Rome CEST
END:DAYLIGHT
BEGIN:DAYLIGHT
DTSTART:20190331T030000
RDATE:20191027T020000
TZOFFSETFROM:+0100
TZOFFSETTO:+0200
TZNAME:Europe/Rome CEST
END:DAYLIGHT
BEGIN:DAYLIGHT
DTSTART:20200329T030000
RDATE:20201025T020000
TZOFFSETFROM:+0100
TZOFFSETTO:+0200
TZNAME:Europe/Rome CEST
END:DAYLIGHT
BEGIN:DAYLIGHT
DTSTART:20210328T030000
RDATE:20211031T020000
TZOFFSETFROM:+0100
TZOFFSETTO:+0200
TZNAME:Europe/Rome CEST
END:DAYLIGHT
BEGIN:DAYLIGHT
DTSTART:20220327T030000
RDATE:20221030T020000
TZOFFSETFROM:+0100
TZOFFSETTO:+0200
TZNAME:Europe/Rome CEST
END:DAYLIGHT
BEGIN:DAYLIGHT
DTSTART:20230326T030000
RDATE:20231029T020000
TZOFFSETFROM:+0100
TZOFFSETTO:+0200
TZNAME:Europe/Rome CEST
END:DAYLIGHT
BEGIN:DAYLIGHT
DTSTART:20240331T030000
RDATE:20241027T020000
TZOFFSETFROM:+0100
TZOFFSETTO:+0200
TZNAME:Europe/Rome CEST
END:DAYLIGHT
BEGIN:DAYLIGHT
DTSTART:20250330T030000
RDATE:20251026T020000
TZOFFSETFROM:+0100
TZOFFSETTO:+0200
TZNAME:Europe/Rome CEST
END:DAYLIGHT
BEGIN:DAYLIGHT
DTSTART:20260329T030000
RDATE:20261025T020000
TZOFFSETFROM:+0100
TZOFFSETTO:+0200
TZNAME:Europe/Rome CEST
END:DAYLIGHT
BEGIN:DAYLIGHT
DTSTART:20270328T030000
RDATE:20271031T020000
TZOFFSETFROM:+0100
TZOFFSETTO:+0200
TZNAME:Europe/Rome CEST
END:DAYLIGHT
BEGIN:DAYLIGHT
DTSTART:20280326T030000
RDATE:20281029T020000
TZOFFSETFROM:+0100
TZOFFSETTO:+0200
TZNAME:Europe/Rome CEST
END:DAYLIGHT
BEGIN:DAYLIGHT
DTSTART:20290325T030000
RDATE:20291028T020000
TZOFFSETFROM:+0100
TZOFFSETTO:+0200
TZNAME:Europe/Rome CEST
END:DAYLIGHT
BEGIN:DAYLIGHT
DTSTART:20300331T030000
RDATE:20301027T020000
TZOFFSETFROM:+0100
TZOFFSETTO:+0200
TZNAME:Europe/Rome CEST
END:DAYLIGHT
BEGIN:DAYLIGHT
DTSTART:20310330T030000
RDATE:20311026T020000
TZOFFSETFROM:+0100
TZOFFSETTO:+0200
TZNAME:Europe/Rome CEST
END:DAYLIGHT
BEGIN:DAYLIGHT
DTSTART:20320328T030000
RDATE:20321031T020000
TZOFFSETFROM:+0100
TZOFFSETTO:+0200
TZNAME:Europe/Rome CEST
END:DAYLIGHT
BEGIN:DAYLIGHT
DTSTART:20330327T030000
RDATE:20331030T020000
TZOFFSETFROM:+0100
TZOFFSETTO:+0200
TZNAME:Europe/Rome CEST
END:DAYLIGHT
BEGIN:DAYLIGHT
DTSTART:20340326T030000
RDATE:20341029T020000
TZOFFSETFROM:+0100
TZOFFSETTO:+0200
TZNAME:Europe/Rome CEST
END:DAYLIGHT
BEGIN:DAYLIGHT
DTSTART:20350325T030000
RDATE:20351028T020000
TZOFFSETFROM:+0100
TZOFFSETTO:+0200
TZNAME:Europe/Rome CEST
END:DAYLIGHT
BEGIN:DAYLIGHT
DTSTART:20360330T030000
RDATE:20361026T020000
TZOFFSETFROM:+0100
TZOFFSETTO:+0200
TZNAME:Europe/Rome CEST
END:DAYLIGHT
BEGIN:DAYLIGHT
DTSTART:20370329T030000
RDATE:20371025T020000
TZOFFSETFROM:+0100
TZOFFSETTO:+0200
TZNAME:Europe/Rome CEST
END:DAYLIGHT
END:VTIMEZONE
BEGIN:VEVENT
UID:1429120031evt2201
CATEGORIES:.
SUMMARY:09- Al Qarafa Cairo (conferenza)
DESCRIPTION;ENCODING=QUOTED-PRINTABLE:<strong>Sabato 9 marzo 2013<br />Dalle 9.40 alle 13.00</strong><br />&nbsp;
 &nbsp; &nbsp;<br />Museo delle Religioni &ldquo;Raffaele Pettazzoni&rdquo;<
 br />Centro Ricerche e Documentazione in Tanatologia Culturale<br /><br /><
 strong>AL QARAFA<br />La Citt&agrave; dei Morti del Cairo</strong><br />- R
 iflessioni sul Rapporto tra l&rsquo;Uomo e la Morte -<br /><br /><strong>Sa
 bato 9 marzo 2013 ore 9:40<br />Sala del Consiglio Comunale - Citt&agrave; 
 di Velletri</strong><br />Piazza Cesare Ottaviano Augusto 1<br /><br />Gilb
 erto Mazzoleni (Docente di Storia delle Religioni, Sapienza Universit&agrav
 e; di Roma)<br />Morti, Antenati, D&egrave;i. Riflessioni sul Rapporto tra 
 l&rsquo;Uomo e la Morte<br />Leila Karami (Sapienza Universit&agrave; di Ro
 ma)<br />Visione dell&#39;aldil&agrave; e riti funebri nell&#39;Islam<br />
 Anna Tozzi di Marco (Society of Arabian Studies)<br />Al Qarafa, la Citt&ag
 rave; dei Morti del Cairo<br /><br />Interverranno:<br />Fausto Servadio, S
 indaco di Velletri (?)<br />Maria Paola De Marchis, Presidente Calliope Ass
 ociazione Culturale<br />Manal Serry, Circolo Internazionale per il Dialogo
  Interculturale e Linguistico<br /><br />Coordina:<br />Igor Baglioni, Muse
 o delle Religioni &ldquo;Raffaele Pettazzoni&rdquo;<br /><br /><strong>Al t
 ermine</strong> della manifestazione verr&agrave; inaugurata la <strong>mos
 tra fotografica Egitto Inedito: Al Qarafa. Incroci di Sguardi</strong> a cu
 ra del &ldquo;Collettivo Al Qarafa&rdquo;. La mostra rimarr&agrave; esposta
  dal<strong> 9 al 15 marzo</strong> presso la Sala delle Lapidi del Palazzo
  Comunale della citt&agrave; di Velletri. Sono previste visite guidate.<br 
 /><br /><strong>Info</strong><br /><span id="cloak37170">Questo indirizzo e
 mail è protetto dagli spambots. È necessario abilitare JavaScript per veder
 lo.</span><script type='text/javascript'>
 //<!--
 document.getElementById(
 'cloak37170').innerHTML = '';
 var prefix = '&#109;a' + 'i&#108;' + '&#116;
 o';
 var path = 'hr' + 'ef' + '=';
 var addy37170 = 'Ig&#111;rb&#97;gl&#105
 ;&#111;n&#105;79' + '&#64;';
 addy37170 = addy37170 + 'gm&#97;&#105;l' + '&
 #46;' + 'c&#111;m';
 document.getElementById('cloak37170').innerHTML += '<a
  ' + path + '\'' + prefix + ':' + addy37170 + '\'>' +addy37170+'<\/a>';
 //
 -->
 </script><br /><span id="cloak3480">Questo indirizzo email è protetto 
 dagli spambots. È necessario abilitare JavaScript per vederlo.</span><scrip
 t type='text/javascript'>
 //<!--
 document.getElementById('cloak3480').inn
 erHTML = '';
 var prefix = '&#109;a' + 'i&#108;' + '&#116;o';
 var path = '
 hr' + 'ef' + '=';
 var addy3480 = '&#97;nn&#97;_t&#111;zz&#105;' + '&#64;';
 
 addy3480 = addy3480 + 'h&#111;tm&#97;&#105;l' + '&#46;' + 'c&#111;m';
 do
 cument.getElementById('cloak3480').innerHTML += '<a ' + path + '\'' + prefi
 x + ':' + addy3480 + '\'>' +addy3480+'<\/a>';
 //-->
 </script><br /><br />
 <strong>La Citt&agrave; dei Morti nasce nel 642 d.C.</strong> ai piedi dell
 e colline di Moqattam, ad est di al Fustat (l&#39;antica Cairo), come primo
  nucleo di sepoltura dei conquistatori arabi, denominato Al Qarafa (nella p
 arlata egiziana &#39;Arafa). Ogni dinastia araba succedutasi dot&ograve; la
  capitale di un nuovo cimitero, caratterizzandolo con edifici religiosi e c
 ivili. Nel corso dei secoli sorsero alloggi per i mistici islamici (sufi), 
 piccoli e grandi palazzi nobiliari, mulini per il grano, ospizi per i bisog
 nosi (ribat), ed ostelli per i pellegrini, contribuendo a rendere sempre pi
 &ugrave; popolato. Durante l&rsquo;epoca fatimida (979-1171d.C.) venne cost
 ruito al centro della citt&agrave; di al Qahira un cimitero con una moschea
  funeraria, al cui interno i califfi fecero edificare le loro tombe. Un alt
 ro sorse fuori la porta settentrionale Bab el Nasr (la porta della vittoria
 ). Inoltre i regnanti Fatimidi, di fede musulmana sciita, costruirono compl
 essi funerari per i martiri alidi, ossia i discendenti di Al&igrave; ibn Ab
 u Taleb, cugino e genero di Maometto, nonch&eacute; moschee per la diffusio
 ne del nuovo rito, sebbene la maggioranza degli egiziani fosse sunnita. Dur
 ante il secolo XIII Saladino nell&rsquo;intenzione di unificare le quattro 
 capitali egiziane (al Fustat della dinastia degli Omayyadi, al Askar degli 
 Abbassidi, al Qata&rsquo;i dei Tulunidi, al Qahira dei Fatimidi) in un&rsqu
 o;unica cintura muraria, port&ograve; all&rsquo;integrazione dei vari cimit
 eri nel tessuto urbano. Il mausoleo funerario pi&ugrave; importante dell&rs
 quo;epoca &egrave; la tomba dell&rsquo;Imam Shafi&rsquo;i, fondatore del ri
 to shafai&rsquo;ita dell&rsquo;islam sunnita e riverito come uno dei pi&ugr
 ave; grandi personaggi &ldquo;santi&rdquo; musulmani. Da secoli il suo sepo
 lcro (la pi&ugrave; grande camera mortuaria musulmana in Egitto) rappresent
 a il fulcro di tutto il cimitero meridionale. Sotto la dominazione mamelucc
 a (1260-1517d.C.) avvenne l&rsquo;ultima significativa espansione storica d
 ell&#39;antico cimitero islamico cairota. I sovrani mamelucchi commissionar
 ono non solo mausolei funerari di notevolissimo pregio artistico ma cercaro
 no di pianificare un&rsquo;urbanizzazione secolare della zona. L&rsquo;aura
  di santit&agrave; dovuta alla presenza delle sepolture dei mistici sufi st
 imol&ograve; a costruirsi il proprio tumulo nelle loro vicinanze. Tuttavia 
 la Citt&agrave; dei Morti non ha mai assolto alla funzione soltanto funebre
 . Era infatti connotata dallo sfoggio del potere politico. Come in Europa, 
 lo sfarzo delle opere artistiche e delle cerimonie festive e religiose rapp
 resentavano manifestazioni del potere regale e nobiliare, cos&igrave; i sov
 rani mamelucchi scendevano in parata dalla Cittadella attraversando la necr
 opoli e rientrando in citt&agrave; attraverso la porta settentrionale Bab e
 l Nasr. La dinastia successiva degli Ottomani (1517-1798 d.C.) edific&ograv
 e; fastose tombe di famiglia e restaur&ograve; molti altari in stile turco,
  anche se dei 110 governanti (pasha) solo pochi lasciarono traccia nell&#39
 ;ormai vasta necropoli. Altri piccoli cimiteri furono creati intra muros ed
  i cairoti seppellivano i propri defunti anche nei cortili di casa, pratica
  che termin&ograve; con la conquista napoleonica nel 1798 per motivi di igi
 ene. Con il processo di modernizzazione del paese si cerc&ograve; di limita
 re le funzioni del cimitero alla sola inumazione e le moschee al suo intern
 o persero la loro valenza educativa. Nel secolo XX la crisi urbana degli al
 loggi e soprattutto le carestie dovute alle fecero s&igrave; che grandi mas
 se di gente rurale ripopolassero il cimitero, occupando le stanze adibite a
 lla visita ai defunti e rendendole proprie abitazioni permanenti. Il volto 
 della necropoli cambi&ograve; radicalmente, trasformandosi nella attuale Ci
 tt&agrave; dei morti.
DTSTAMP:20260420T102723Z
DTSTART;TZID=Europe/Rome:20130309T000100
DTEND;TZID=Europe/Rome:20130310T000100
SEQUENCE:0
TRANSP:OPAQUE
END:VEVENT
END:VCALENDAR