BEGIN:VCALENDAR
VERSION:2.0
PRODID:-//jEvents 2.0 for Joomla//EN
CALSCALE:GREGORIAN
METHOD:PUBLISH
BEGIN:VTIMEZONE
TZID:Europe/Rome
BEGIN:STANDARD
DTSTART:20121127T000100
RDATE:20130331T030000
TZOFFSETFROM:+0200
TZOFFSETTO:+0100
TZNAME:Europe/Rome CET
END:STANDARD
BEGIN:STANDARD
DTSTART:20131027T020000
RDATE:20140330T030000
TZOFFSETFROM:+0200
TZOFFSETTO:+0100
TZNAME:Europe/Rome CET
END:STANDARD
BEGIN:STANDARD
DTSTART:20141026T020000
RDATE:20150329T030000
TZOFFSETFROM:+0200
TZOFFSETTO:+0100
TZNAME:Europe/Rome CET
END:STANDARD
BEGIN:STANDARD
DTSTART:20151025T020000
RDATE:20160327T030000
TZOFFSETFROM:+0200
TZOFFSETTO:+0100
TZNAME:Europe/Rome CET
END:STANDARD
BEGIN:STANDARD
DTSTART:20161030T020000
RDATE:20170326T030000
TZOFFSETFROM:+0200
TZOFFSETTO:+0100
TZNAME:Europe/Rome CET
END:STANDARD
BEGIN:STANDARD
DTSTART:20171029T020000
RDATE:20180325T030000
TZOFFSETFROM:+0200
TZOFFSETTO:+0100
TZNAME:Europe/Rome CET
END:STANDARD
BEGIN:STANDARD
DTSTART:20181028T020000
RDATE:20190331T030000
TZOFFSETFROM:+0200
TZOFFSETTO:+0100
TZNAME:Europe/Rome CET
END:STANDARD
BEGIN:STANDARD
DTSTART:20191027T020000
RDATE:20200329T030000
TZOFFSETFROM:+0200
TZOFFSETTO:+0100
TZNAME:Europe/Rome CET
END:STANDARD
BEGIN:STANDARD
DTSTART:20201025T020000
RDATE:20210328T030000
TZOFFSETFROM:+0200
TZOFFSETTO:+0100
TZNAME:Europe/Rome CET
END:STANDARD
BEGIN:STANDARD
DTSTART:20211031T020000
RDATE:20220327T030000
TZOFFSETFROM:+0200
TZOFFSETTO:+0100
TZNAME:Europe/Rome CET
END:STANDARD
BEGIN:STANDARD
DTSTART:20221030T020000
RDATE:20230326T030000
TZOFFSETFROM:+0200
TZOFFSETTO:+0100
TZNAME:Europe/Rome CET
END:STANDARD
BEGIN:STANDARD
DTSTART:20231029T020000
RDATE:20240331T030000
TZOFFSETFROM:+0200
TZOFFSETTO:+0100
TZNAME:Europe/Rome CET
END:STANDARD
BEGIN:STANDARD
DTSTART:20241027T020000
RDATE:20250330T030000
TZOFFSETFROM:+0200
TZOFFSETTO:+0100
TZNAME:Europe/Rome CET
END:STANDARD
BEGIN:STANDARD
DTSTART:20251026T020000
RDATE:20260329T030000
TZOFFSETFROM:+0200
TZOFFSETTO:+0100
TZNAME:Europe/Rome CET
END:STANDARD
BEGIN:STANDARD
DTSTART:20261025T020000
RDATE:20270328T030000
TZOFFSETFROM:+0200
TZOFFSETTO:+0100
TZNAME:Europe/Rome CET
END:STANDARD
BEGIN:STANDARD
DTSTART:20271031T020000
RDATE:20280326T030000
TZOFFSETFROM:+0200
TZOFFSETTO:+0100
TZNAME:Europe/Rome CET
END:STANDARD
BEGIN:STANDARD
DTSTART:20281029T020000
RDATE:20290325T030000
TZOFFSETFROM:+0200
TZOFFSETTO:+0100
TZNAME:Europe/Rome CET
END:STANDARD
BEGIN:STANDARD
DTSTART:20291028T020000
RDATE:20300331T030000
TZOFFSETFROM:+0200
TZOFFSETTO:+0100
TZNAME:Europe/Rome CET
END:STANDARD
BEGIN:STANDARD
DTSTART:20301027T020000
RDATE:20310330T030000
TZOFFSETFROM:+0200
TZOFFSETTO:+0100
TZNAME:Europe/Rome CET
END:STANDARD
BEGIN:STANDARD
DTSTART:20311026T020000
RDATE:20320328T030000
TZOFFSETFROM:+0200
TZOFFSETTO:+0100
TZNAME:Europe/Rome CET
END:STANDARD
BEGIN:STANDARD
DTSTART:20321031T020000
RDATE:20330327T030000
TZOFFSETFROM:+0200
TZOFFSETTO:+0100
TZNAME:Europe/Rome CET
END:STANDARD
BEGIN:STANDARD
DTSTART:20331030T020000
RDATE:20340326T030000
TZOFFSETFROM:+0200
TZOFFSETTO:+0100
TZNAME:Europe/Rome CET
END:STANDARD
BEGIN:STANDARD
DTSTART:20341029T020000
RDATE:20350325T030000
TZOFFSETFROM:+0200
TZOFFSETTO:+0100
TZNAME:Europe/Rome CET
END:STANDARD
BEGIN:STANDARD
DTSTART:20351028T020000
RDATE:20360330T030000
TZOFFSETFROM:+0200
TZOFFSETTO:+0100
TZNAME:Europe/Rome CET
END:STANDARD
BEGIN:STANDARD
DTSTART:20361026T020000
RDATE:20370329T030000
TZOFFSETFROM:+0200
TZOFFSETTO:+0100
TZNAME:Europe/Rome CET
END:STANDARD
BEGIN:STANDARD
DTSTART:20371025T020000
TZOFFSETFROM:+0200
TZOFFSETTO:+0100
TZNAME:Europe/Rome CET
END:STANDARD
BEGIN:DAYLIGHT
DTSTART:20130331T030000
RDATE:20131027T020000
TZOFFSETFROM:+0100
TZOFFSETTO:+0200
TZNAME:Europe/Rome CEST
END:DAYLIGHT
BEGIN:DAYLIGHT
DTSTART:20140330T030000
RDATE:20141026T020000
TZOFFSETFROM:+0100
TZOFFSETTO:+0200
TZNAME:Europe/Rome CEST
END:DAYLIGHT
BEGIN:DAYLIGHT
DTSTART:20150329T030000
RDATE:20151025T020000
TZOFFSETFROM:+0100
TZOFFSETTO:+0200
TZNAME:Europe/Rome CEST
END:DAYLIGHT
BEGIN:DAYLIGHT
DTSTART:20160327T030000
RDATE:20161030T020000
TZOFFSETFROM:+0100
TZOFFSETTO:+0200
TZNAME:Europe/Rome CEST
END:DAYLIGHT
BEGIN:DAYLIGHT
DTSTART:20170326T030000
RDATE:20171029T020000
TZOFFSETFROM:+0100
TZOFFSETTO:+0200
TZNAME:Europe/Rome CEST
END:DAYLIGHT
BEGIN:DAYLIGHT
DTSTART:20180325T030000
RDATE:20181028T020000
TZOFFSETFROM:+0100
TZOFFSETTO:+0200
TZNAME:Europe/Rome CEST
END:DAYLIGHT
BEGIN:DAYLIGHT
DTSTART:20190331T030000
RDATE:20191027T020000
TZOFFSETFROM:+0100
TZOFFSETTO:+0200
TZNAME:Europe/Rome CEST
END:DAYLIGHT
BEGIN:DAYLIGHT
DTSTART:20200329T030000
RDATE:20201025T020000
TZOFFSETFROM:+0100
TZOFFSETTO:+0200
TZNAME:Europe/Rome CEST
END:DAYLIGHT
BEGIN:DAYLIGHT
DTSTART:20210328T030000
RDATE:20211031T020000
TZOFFSETFROM:+0100
TZOFFSETTO:+0200
TZNAME:Europe/Rome CEST
END:DAYLIGHT
BEGIN:DAYLIGHT
DTSTART:20220327T030000
RDATE:20221030T020000
TZOFFSETFROM:+0100
TZOFFSETTO:+0200
TZNAME:Europe/Rome CEST
END:DAYLIGHT
BEGIN:DAYLIGHT
DTSTART:20230326T030000
RDATE:20231029T020000
TZOFFSETFROM:+0100
TZOFFSETTO:+0200
TZNAME:Europe/Rome CEST
END:DAYLIGHT
BEGIN:DAYLIGHT
DTSTART:20240331T030000
RDATE:20241027T020000
TZOFFSETFROM:+0100
TZOFFSETTO:+0200
TZNAME:Europe/Rome CEST
END:DAYLIGHT
BEGIN:DAYLIGHT
DTSTART:20250330T030000
RDATE:20251026T020000
TZOFFSETFROM:+0100
TZOFFSETTO:+0200
TZNAME:Europe/Rome CEST
END:DAYLIGHT
BEGIN:DAYLIGHT
DTSTART:20260329T030000
RDATE:20261025T020000
TZOFFSETFROM:+0100
TZOFFSETTO:+0200
TZNAME:Europe/Rome CEST
END:DAYLIGHT
BEGIN:DAYLIGHT
DTSTART:20270328T030000
RDATE:20271031T020000
TZOFFSETFROM:+0100
TZOFFSETTO:+0200
TZNAME:Europe/Rome CEST
END:DAYLIGHT
BEGIN:DAYLIGHT
DTSTART:20280326T030000
RDATE:20281029T020000
TZOFFSETFROM:+0100
TZOFFSETTO:+0200
TZNAME:Europe/Rome CEST
END:DAYLIGHT
BEGIN:DAYLIGHT
DTSTART:20290325T030000
RDATE:20291028T020000
TZOFFSETFROM:+0100
TZOFFSETTO:+0200
TZNAME:Europe/Rome CEST
END:DAYLIGHT
BEGIN:DAYLIGHT
DTSTART:20300331T030000
RDATE:20301027T020000
TZOFFSETFROM:+0100
TZOFFSETTO:+0200
TZNAME:Europe/Rome CEST
END:DAYLIGHT
BEGIN:DAYLIGHT
DTSTART:20310330T030000
RDATE:20311026T020000
TZOFFSETFROM:+0100
TZOFFSETTO:+0200
TZNAME:Europe/Rome CEST
END:DAYLIGHT
BEGIN:DAYLIGHT
DTSTART:20320328T030000
RDATE:20321031T020000
TZOFFSETFROM:+0100
TZOFFSETTO:+0200
TZNAME:Europe/Rome CEST
END:DAYLIGHT
BEGIN:DAYLIGHT
DTSTART:20330327T030000
RDATE:20331030T020000
TZOFFSETFROM:+0100
TZOFFSETTO:+0200
TZNAME:Europe/Rome CEST
END:DAYLIGHT
BEGIN:DAYLIGHT
DTSTART:20340326T030000
RDATE:20341029T020000
TZOFFSETFROM:+0100
TZOFFSETTO:+0200
TZNAME:Europe/Rome CEST
END:DAYLIGHT
BEGIN:DAYLIGHT
DTSTART:20350325T030000
RDATE:20351028T020000
TZOFFSETFROM:+0100
TZOFFSETTO:+0200
TZNAME:Europe/Rome CEST
END:DAYLIGHT
BEGIN:DAYLIGHT
DTSTART:20360330T030000
RDATE:20361026T020000
TZOFFSETFROM:+0100
TZOFFSETTO:+0200
TZNAME:Europe/Rome CEST
END:DAYLIGHT
BEGIN:DAYLIGHT
DTSTART:20370329T030000
RDATE:20371025T020000
TZOFFSETFROM:+0100
TZOFFSETTO:+0200
TZNAME:Europe/Rome CEST
END:DAYLIGHT
END:VTIMEZONE
BEGIN:VEVENT
UID:1429120061evt2492
CATEGORIES:.
SUMMARY:28- Milagro Acustico Sicilia Araba (musica)
DESCRIPTION;ENCODING=QUOTED-PRINTABLE:Helikonia <br />ti invita all&rsquo;<br /><strong>Auditorium Parco della Mu
 sica</strong><br /><br />in collaborazione con <br /><strong>Cultural Bridg
 e indie label<br /></strong><br /><br />presentano<br /><br /><strong>Milag
 ro Acustico<br />medina sound <br />in<br />&quot;SICILIA ARABA&quot;<br />
 Poeti Arabi di Sicilia 827 - 1091<br /><br />28 Novembre 2013 SALA PETRASSI
  ore 21,00</strong><br /><br />PROMOZIONE RIDOTTO 12,00! E&#39; possibile p
 renotare anche il cd a 8,00 euro e ritirarlo presso il banco Helikonia dava
 ti alle casse dell&#39;Auditorium.<br />------------<br /><br />Marwan Same
 r oud, voce<br />Bob Salmieri baglama, soprano sax, ney, klarinet, percussi
 oni<br />Andrea Pullone classic guitar, oud<br />Maurizio Perrone contrabba
 sso<br />Maurizio Catania percussioni<br />Carlo Cossu violino, chamancheh<
 br />Andrea Piccioni tamburello, darbuka<br />Eda Ozbakay danza <br /><br /
 ><strong>Con il nuovo disco Sicilia Araba</strong>, che verr&agrave; presen
 tato questa sera,&nbsp; i Milagro Acustico Medina Sound tornano a parlare d
 ella storia remota e oscura della Sicilia araba, periodo storico che ha con
 traddistinto quasi l&rsquo;intera produzione discografica e di ricerca del 
 gruppo in venti anni di attivit&agrave;, ma lo fanno questa volta con la li
 ngua stessa dei poeti arabi, grazie alla collaborazione con il musicista e 
 cantante iracheno-tunisino Marwan Samer, utilizzando come sempre gli strume
 nti della tradizione mediterranea come oud, baglama, ney, daf e molti altri
  e con arrangiamenti che tendono a mettere in risalto la modernit&agrave; d
 ei versi di poeti come Ibn Hamdis e degli altri poeti arabi vissuti in Sici
 lia a cavallo dell&#39;anno Mille. In particolare, vengono utilizzate le po
 esie che parlano della Sicilia, terra natia per molti di loro, dall&#39;esi
 lio forzato o con stralci tratti dai racconti di viaggio fatti nell&#39;iso
 la da poeti, mercanti e notabili arabi dopo la caduta del dominio islamico 
 durato in Sicilia tre secoli e nella vicina Spagna quasi sette secoli. Il t
 ema quindi che accomuna questi testi &egrave; la nostalgia o lo sgomento pe
 r la perdita del &quot;Paradiso&quot;.<br /><br />PRENOTAZIONE &nbsp;<br />
 Prenota il tuo biglietto ridotto e, se vuoi il cd, scrivendo una mail a <sp
 an id="cloak18682">Questo indirizzo email è protetto dagli spambots. È nece
 ssario abilitare JavaScript per vederlo.</span><script type='text/javascrip
 t'>
 //<!--
 document.getElementById('cloak18682').innerHTML = '';
 var pre
 fix = '&#109;a' + 'i&#108;' + '&#116;o';
 var path = 'hr' + 'ef' + '=';
 va
 r addy18682 = '&#97;rt&#105;st&#105;' + '&#64;';
 addy18682 = addy18682 + '
 h&#101;l&#105;k&#111;n&#105;&#97;' + '&#46;' + '&#105;t';
 document.getElem
 entById('cloak18682').innerHTML += '<a ' + path + '\'' + prefix + ':' + add
 y18682 + '\'>' +addy18682+'<\/a>';
 //-->
 </script>, potrai ritirarlo la s
 era stessa al botteghino dell&rsquo;Auditorium.<br />La promozione &egrave;
  valida fino esaurimento dei posti disponibili.<br /><br /><br />Indi edizi
 oni e produzioni musicali<br />Roma &ndash; Via Acquedotto Alessandrino, 10
 2 - 00177<br /><a href="http://www.culturalbridgelabel.com" target="_blank"
 >http://www.culturalbridgelabel.com</a> <br /><span id="cloak23055">Questo 
 indirizzo email è protetto dagli spambots. È necessario abilitare JavaScrip
 t per vederlo.</span><script type='text/javascript'>
 //<!--
 document.getE
 lementById('cloak23055').innerHTML = '';
 var prefix = '&#109;a' + 'i&#108;
 ' + '&#116;o';
 var path = 'hr' + 'ef' + '=';
 var addy23055 = '&#105;nf&#1
 11;' + '&#64;';
 addy23055 = addy23055 + 'c&#117;lt&#117;r&#97;lbr&#105;dg&
 #101;' + '&#46;' + '&#105;t';
 document.getElementById('cloak23055').innerH
 TML += '<a ' + path + '\'' + prefix + ':' + addy23055 + '\'>' +addy23055+'<
 \/a>';
 //-->
 </script><br /><a href="http://www.milagroacustico.net" targ
 et="_blank">http://www.milagroacustico.net</a> <br /><span id="cloak56102">
 Questo indirizzo email è protetto dagli spambots. È necessario abilitare Ja
 vaScript per vederlo.</span><script type='text/javascript'>
 //<!--
 docume
 nt.getElementById('cloak56102').innerHTML = '';
 var prefix = '&#109;a' + '
 i&#108;' + '&#116;o';
 var path = 'hr' + 'ef' + '=';
 var addy56102 = '&#10
 5;nf&#111;' + '&#64;';
 addy56102 = addy56102 + 'm&#105;l&#97;gr&#111;&#97;
 c&#117;st&#105;c&#111;' + '&#46;' + 'c&#111;m';
 document.getElementById('c
 loak56102').innerHTML += '<a ' + path + '\'' + prefix + ':' + addy56102 + '
 \'>' +addy56102+'<\/a>';
 //-->
 </script>
DTSTAMP:20260420T102905Z
DTSTART;TZID=Europe/Rome:20131128T000100
DTEND;TZID=Europe/Rome:20131129T000100
SEQUENCE:0
TRANSP:OPAQUE
END:VEVENT
END:VCALENDAR