BEGIN:VCALENDAR
VERSION:2.0
PRODID:-//jEvents 2.0 for Joomla//EN
CALSCALE:GREGORIAN
METHOD:PUBLISH
BEGIN:VTIMEZONE
TZID:Europe/Rome
BEGIN:STANDARD
DTSTART:20140317T000000
RDATE:20140330T030000
TZOFFSETFROM:+0200
TZOFFSETTO:+0100
TZNAME:Europe/Rome CET
END:STANDARD
BEGIN:STANDARD
DTSTART:20141026T020000
RDATE:20150329T030000
TZOFFSETFROM:+0200
TZOFFSETTO:+0100
TZNAME:Europe/Rome CET
END:STANDARD
BEGIN:STANDARD
DTSTART:20151025T020000
RDATE:20160327T030000
TZOFFSETFROM:+0200
TZOFFSETTO:+0100
TZNAME:Europe/Rome CET
END:STANDARD
BEGIN:STANDARD
DTSTART:20161030T020000
RDATE:20170326T030000
TZOFFSETFROM:+0200
TZOFFSETTO:+0100
TZNAME:Europe/Rome CET
END:STANDARD
BEGIN:STANDARD
DTSTART:20171029T020000
RDATE:20180325T030000
TZOFFSETFROM:+0200
TZOFFSETTO:+0100
TZNAME:Europe/Rome CET
END:STANDARD
BEGIN:STANDARD
DTSTART:20181028T020000
RDATE:20190331T030000
TZOFFSETFROM:+0200
TZOFFSETTO:+0100
TZNAME:Europe/Rome CET
END:STANDARD
BEGIN:STANDARD
DTSTART:20191027T020000
RDATE:20200329T030000
TZOFFSETFROM:+0200
TZOFFSETTO:+0100
TZNAME:Europe/Rome CET
END:STANDARD
BEGIN:STANDARD
DTSTART:20201025T020000
RDATE:20210328T030000
TZOFFSETFROM:+0200
TZOFFSETTO:+0100
TZNAME:Europe/Rome CET
END:STANDARD
BEGIN:STANDARD
DTSTART:20211031T020000
RDATE:20220327T030000
TZOFFSETFROM:+0200
TZOFFSETTO:+0100
TZNAME:Europe/Rome CET
END:STANDARD
BEGIN:STANDARD
DTSTART:20221030T020000
RDATE:20230326T030000
TZOFFSETFROM:+0200
TZOFFSETTO:+0100
TZNAME:Europe/Rome CET
END:STANDARD
BEGIN:STANDARD
DTSTART:20231029T020000
RDATE:20240331T030000
TZOFFSETFROM:+0200
TZOFFSETTO:+0100
TZNAME:Europe/Rome CET
END:STANDARD
BEGIN:STANDARD
DTSTART:20241027T020000
RDATE:20250330T030000
TZOFFSETFROM:+0200
TZOFFSETTO:+0100
TZNAME:Europe/Rome CET
END:STANDARD
BEGIN:STANDARD
DTSTART:20251026T020000
RDATE:20260329T030000
TZOFFSETFROM:+0200
TZOFFSETTO:+0100
TZNAME:Europe/Rome CET
END:STANDARD
BEGIN:STANDARD
DTSTART:20261025T020000
RDATE:20270328T030000
TZOFFSETFROM:+0200
TZOFFSETTO:+0100
TZNAME:Europe/Rome CET
END:STANDARD
BEGIN:STANDARD
DTSTART:20271031T020000
RDATE:20280326T030000
TZOFFSETFROM:+0200
TZOFFSETTO:+0100
TZNAME:Europe/Rome CET
END:STANDARD
BEGIN:STANDARD
DTSTART:20281029T020000
RDATE:20290325T030000
TZOFFSETFROM:+0200
TZOFFSETTO:+0100
TZNAME:Europe/Rome CET
END:STANDARD
BEGIN:STANDARD
DTSTART:20291028T020000
RDATE:20300331T030000
TZOFFSETFROM:+0200
TZOFFSETTO:+0100
TZNAME:Europe/Rome CET
END:STANDARD
BEGIN:STANDARD
DTSTART:20301027T020000
RDATE:20310330T030000
TZOFFSETFROM:+0200
TZOFFSETTO:+0100
TZNAME:Europe/Rome CET
END:STANDARD
BEGIN:STANDARD
DTSTART:20311026T020000
RDATE:20320328T030000
TZOFFSETFROM:+0200
TZOFFSETTO:+0100
TZNAME:Europe/Rome CET
END:STANDARD
BEGIN:STANDARD
DTSTART:20321031T020000
RDATE:20330327T030000
TZOFFSETFROM:+0200
TZOFFSETTO:+0100
TZNAME:Europe/Rome CET
END:STANDARD
BEGIN:STANDARD
DTSTART:20331030T020000
RDATE:20340326T030000
TZOFFSETFROM:+0200
TZOFFSETTO:+0100
TZNAME:Europe/Rome CET
END:STANDARD
BEGIN:STANDARD
DTSTART:20341029T020000
RDATE:20350325T030000
TZOFFSETFROM:+0200
TZOFFSETTO:+0100
TZNAME:Europe/Rome CET
END:STANDARD
BEGIN:STANDARD
DTSTART:20351028T020000
RDATE:20360330T030000
TZOFFSETFROM:+0200
TZOFFSETTO:+0100
TZNAME:Europe/Rome CET
END:STANDARD
BEGIN:STANDARD
DTSTART:20361026T020000
RDATE:20370329T030000
TZOFFSETFROM:+0200
TZOFFSETTO:+0100
TZNAME:Europe/Rome CET
END:STANDARD
BEGIN:STANDARD
DTSTART:20371025T020000
TZOFFSETFROM:+0200
TZOFFSETTO:+0100
TZNAME:Europe/Rome CET
END:STANDARD
BEGIN:DAYLIGHT
DTSTART:20140330T030000
RDATE:20141026T020000
TZOFFSETFROM:+0100
TZOFFSETTO:+0200
TZNAME:Europe/Rome CEST
END:DAYLIGHT
BEGIN:DAYLIGHT
DTSTART:20150329T030000
RDATE:20151025T020000
TZOFFSETFROM:+0100
TZOFFSETTO:+0200
TZNAME:Europe/Rome CEST
END:DAYLIGHT
BEGIN:DAYLIGHT
DTSTART:20160327T030000
RDATE:20161030T020000
TZOFFSETFROM:+0100
TZOFFSETTO:+0200
TZNAME:Europe/Rome CEST
END:DAYLIGHT
BEGIN:DAYLIGHT
DTSTART:20170326T030000
RDATE:20171029T020000
TZOFFSETFROM:+0100
TZOFFSETTO:+0200
TZNAME:Europe/Rome CEST
END:DAYLIGHT
BEGIN:DAYLIGHT
DTSTART:20180325T030000
RDATE:20181028T020000
TZOFFSETFROM:+0100
TZOFFSETTO:+0200
TZNAME:Europe/Rome CEST
END:DAYLIGHT
BEGIN:DAYLIGHT
DTSTART:20190331T030000
RDATE:20191027T020000
TZOFFSETFROM:+0100
TZOFFSETTO:+0200
TZNAME:Europe/Rome CEST
END:DAYLIGHT
BEGIN:DAYLIGHT
DTSTART:20200329T030000
RDATE:20201025T020000
TZOFFSETFROM:+0100
TZOFFSETTO:+0200
TZNAME:Europe/Rome CEST
END:DAYLIGHT
BEGIN:DAYLIGHT
DTSTART:20210328T030000
RDATE:20211031T020000
TZOFFSETFROM:+0100
TZOFFSETTO:+0200
TZNAME:Europe/Rome CEST
END:DAYLIGHT
BEGIN:DAYLIGHT
DTSTART:20220327T030000
RDATE:20221030T020000
TZOFFSETFROM:+0100
TZOFFSETTO:+0200
TZNAME:Europe/Rome CEST
END:DAYLIGHT
BEGIN:DAYLIGHT
DTSTART:20230326T030000
RDATE:20231029T020000
TZOFFSETFROM:+0100
TZOFFSETTO:+0200
TZNAME:Europe/Rome CEST
END:DAYLIGHT
BEGIN:DAYLIGHT
DTSTART:20240331T030000
RDATE:20241027T020000
TZOFFSETFROM:+0100
TZOFFSETTO:+0200
TZNAME:Europe/Rome CEST
END:DAYLIGHT
BEGIN:DAYLIGHT
DTSTART:20250330T030000
RDATE:20251026T020000
TZOFFSETFROM:+0100
TZOFFSETTO:+0200
TZNAME:Europe/Rome CEST
END:DAYLIGHT
BEGIN:DAYLIGHT
DTSTART:20260329T030000
RDATE:20261025T020000
TZOFFSETFROM:+0100
TZOFFSETTO:+0200
TZNAME:Europe/Rome CEST
END:DAYLIGHT
BEGIN:DAYLIGHT
DTSTART:20270328T030000
RDATE:20271031T020000
TZOFFSETFROM:+0100
TZOFFSETTO:+0200
TZNAME:Europe/Rome CEST
END:DAYLIGHT
BEGIN:DAYLIGHT
DTSTART:20280326T030000
RDATE:20281029T020000
TZOFFSETFROM:+0100
TZOFFSETTO:+0200
TZNAME:Europe/Rome CEST
END:DAYLIGHT
BEGIN:DAYLIGHT
DTSTART:20290325T030000
RDATE:20291028T020000
TZOFFSETFROM:+0100
TZOFFSETTO:+0200
TZNAME:Europe/Rome CEST
END:DAYLIGHT
BEGIN:DAYLIGHT
DTSTART:20300331T030000
RDATE:20301027T020000
TZOFFSETFROM:+0100
TZOFFSETTO:+0200
TZNAME:Europe/Rome CEST
END:DAYLIGHT
BEGIN:DAYLIGHT
DTSTART:20310330T030000
RDATE:20311026T020000
TZOFFSETFROM:+0100
TZOFFSETTO:+0200
TZNAME:Europe/Rome CEST
END:DAYLIGHT
BEGIN:DAYLIGHT
DTSTART:20320328T030000
RDATE:20321031T020000
TZOFFSETFROM:+0100
TZOFFSETTO:+0200
TZNAME:Europe/Rome CEST
END:DAYLIGHT
BEGIN:DAYLIGHT
DTSTART:20330327T030000
RDATE:20331030T020000
TZOFFSETFROM:+0100
TZOFFSETTO:+0200
TZNAME:Europe/Rome CEST
END:DAYLIGHT
BEGIN:DAYLIGHT
DTSTART:20340326T030000
RDATE:20341029T020000
TZOFFSETFROM:+0100
TZOFFSETTO:+0200
TZNAME:Europe/Rome CEST
END:DAYLIGHT
BEGIN:DAYLIGHT
DTSTART:20350325T030000
RDATE:20351028T020000
TZOFFSETFROM:+0100
TZOFFSETTO:+0200
TZNAME:Europe/Rome CEST
END:DAYLIGHT
BEGIN:DAYLIGHT
DTSTART:20360330T030000
RDATE:20361026T020000
TZOFFSETFROM:+0100
TZOFFSETTO:+0200
TZNAME:Europe/Rome CEST
END:DAYLIGHT
BEGIN:DAYLIGHT
DTSTART:20370329T030000
RDATE:20371025T020000
TZOFFSETFROM:+0100
TZOFFSETTO:+0200
TZNAME:Europe/Rome CEST
END:DAYLIGHT
END:VTIMEZONE
BEGIN:VEVENT
UID:cf22bb7d8aa3bb88b4f406189cbe4b99
CATEGORIES:.
SUMMARY:18/21- [Cagliari] Al-Ard Doc Film Festival (film)
DESCRIPTION;ENCODING=QUOTED-PRINTABLE:<p>XII edizione del Al-Ard Doc Film Festival, 18-21 marzo 2015<br /><br />A
 nche quest’anno ritorna Al Ard Doc Film Festival, il Festival internazional
 e del cinema documentario palestinese e arabo, organizzato dall’Associazion
 e Amicizia Sardegna-Palestina a Cagliari.<br /><br />Di seguito riportiamo 
 il comunicato stampa dell’evento.<br /><br />-------<br /><br />L’appuntame
 nto tra Cagliari e il festival del cinema arabo – palestinese Al Ard Doc Fi
 lm Festival organizzato dall’Associazione Amicizia Sardegna Palestina si ri
 nnova e giunge alla sua dodicesima edizione.<br /><br />Rimandato di qualch
 e mese a causa dell’attività dell’associazione impegnata a dar risonanza ai
  tragici eventi che hanno colpito Gaza e la Cisgiordania nell’ultima metà d
 ell’anno passato, il Festival si aprirà mercoledì 18 marzo alle ore 16.00 p
 resso i locali della Cineteca Sarda in Viale Trieste a Cagliari, in continu
 ità con le iniziative appena concluse all’interno della Settimana contro l’
 Apartheid israeliano.<br /><br />Quattro giorni di proiezioni con numerose 
 novità cinematografiche riguardanti non solo la Palestina ma il mondo arabo
  in generale, i documentari spazieranno tra vari Paesi e tematiche, toccand
 o questioni culturali, religiose, sociali o prettamente politiche.<br />Al 
 Ard Doc Film Festival edizione 2015<br /><br />Al Ard Doc Film Festival edi
 zione 2015<br /><br />Prevista per il giorno d’apertura del Festival la pre
 senza di Carol Mansour, regista del documentario “We cannot go there now, m
 y Dear”; giovedì 19 è il turno di uno dei registi del documentario “Stripli
 fe. Gaza in a day”, Nicola Grignani e venerdì 20 Helmy Nouh dall’Egitto pre
 senta il suo film “The discourse game”.<br /><br />D’obbligo anche l’incont
 ro con gli studenti delle scuole secondarie che quest’anno è previsto per s
 abato 21 dalle 9 alle 13 presso l’Aula Magna dell’I.T.I  “M. Giua” con il t
 itolo “ Palestina in cattedra”.<br /><br />Il festival si chiude sabato 21 
 con la cerimonia finale di premiazione, presso i locali della Cineteca Sard
 a.<br /><br />Tradizione vuole che a scegliere i migliori film, oltre al pu
 bblico, sia una giuria composta da ospiti locali e internazionali, fra cui 
 il poeta-scrittore palestinese Ibrahim Nasrallah, la regista Monica Maurer,
  Wasim Dahmash, ricercatore di lingua e letteratura araba, Antonello Zanda,
  direttore della Società Umanitaria di Cagliari e, infine, Felice Tiragallo
 , docente di antropologia all’Università degli Studi di Cagliari, e Antioco
  Floris, ricercatore di discipline cinematografiche. La direzione artistica
  è, come ogni anno, affidata all’esperienza di Giuseppe Pusceddu.<br /><br 
 />Per l’occasione, inoltre, Monica Maurer presenterà il suo cortometraggio 
 “Nakba”, realizzato in collaborazione con la Fondazione Archivio Audiovisiv
 o del Movimento Operaio e Democratico (AAMOD) di Roma.<br /><br />Quest’ann
 o all’interno del Festival è prevista una giornata di studio intitolata “La
  questione israelo-palestinese nel pensiero e nell’azione di Giorgio La Pir
 a e Giuseppe Dossetti” che si terrà a Cagliari, giovedì 19 marzo, con inizi
 o alle ore 16 (Aula Magna “Maria Lai” della Facoltà di Scienze economiche, 
 giuridiche e politiche dell’Università di Cagliari, Via Nicolodi 102). La G
 iornata è organizzata dall’Associazione Amicizia Sardegna Palestina e dall’
 ISPROM, dall’Università di Cagliari, dalla Pontificia Facoltà Teologica del
 la Sardegna, in collaborazione con l’Associazione Ponti non muri e la Fonda
 zione per le Scienze Religiose Giovanni XXIII.<br /><br />Per la prima volt
 a, inoltre, il Festival  diventa “itinerante” e arriva nelle sale del Centr
 o Servizi Culturali di Macomer con due proiezioni previste per il 19 e il 2
 0 marzo alle ore 21, durante le quali saranno presenti anche i registi Caro
 l Mansour, con il film “We cannot Go There Now, my Dear” e l’italiano Nicol
 a Grignani, con il documentario “Striplife. Gaza in a day”.<br /><br />Info
 : 3386166944<br /><br />Potete trovare il programma completo sul sito:<br /
 ><a href="http://www.sardegnapalestina.org" target="_blank">http://www.sard
 egnapalestina.org</a><br />e seguire gli aggiornamenti sulle pagine:<br />f
 acebook.com/sardegna.palestina<br />twitter.com/Spalestina<br /><br />fonte
 : Cultura è Libertà</p>
DTSTAMP:20260420T102853Z
DTSTART;TZID=Europe/Rome;VALUE=DATE:20150318
DTEND;TZID=Europe/Rome;VALUE=DATE:20150319
SEQUENCE:0
TRANSP:OPAQUE
END:VEVENT
END:VCALENDAR